BEGIN:VCALENDAR
VERSION:2.0
PRODID:-//SVP Wahlkreis Stadt Luzern //NONSGML Events //EN
CALSCALE:GREGORIAN
X-WR-CALNAME:SVP Wahlkreis Stadt Luzern
BEGIN:VEVENT
CREATED:20251003T085250Z
UID:32176
DTEND:20260106T200000
DTSTART:20260106T193000
DTSTAMP:20260422T140634Z
LOCATION:Gasthof 3 Könige\, Entlebuch
DESCRIPTION:
SUMMARY:Sessionsrückblick
ORGANIZER:SVP Wahlkreis Entlebuch
URL;VALUE=URI:https://www.svpluzern.ch/termine/sessionsrueckblick-8/
TRANSP:OPAQUE
END:VEVENT
END:VCALENDAR
