BEGIN:VCALENDAR
VERSION:2.0
PRODID:-//SVP Wahlkreis Stadt Luzern //NONSGML Events //EN
CALSCALE:GREGORIAN
X-WR-CALNAME:SVP Wahlkreis Stadt Luzern
BEGIN:VEVENT
CREATED:20250101T105933Z
UID:28916
DTEND:20250327T200000
DTSTART:20250327T193000
DTSTAMP:20260422T140810Z
LOCATION:Saal Egli Gemeindehauspl. 26\, 6048 Horw
DESCRIPTION:
SUMMARY:Sessionsrückblick
ORGANIZER:SVP Horw
URL;VALUE=URI:https://www.svpluzern.ch/termine/sessionsrueckblick-6/
TRANSP:OPAQUE
END:VEVENT
END:VCALENDAR
