BEGIN:VCALENDAR
VERSION:2.0
PRODID:-//SVP Wahlkreis Stadt Luzern //NONSGML Events //EN
CALSCALE:GREGORIAN
X-WR-CALNAME:SVP Wahlkreis Stadt Luzern
BEGIN:VEVENT
CREATED:20240919T052110Z
UID:28847
DTEND:20250116T210000
DTSTART:20250116T163000
DTSTAMP:20260422T084511Z
LOCATION:
DESCRIPTION:
SUMMARY:GL-Sitzung
ORGANIZER:
URL;VALUE=URI:https://www.svpluzern.ch/termine/gl-sitzung-18/
TRANSP:OPAQUE
END:VEVENT
END:VCALENDAR
