BEGIN:VCALENDAR
VERSION:2.0
PRODID:-//SVP Wahlkreis Stadt Luzern //NONSGML Events //EN
CALSCALE:GREGORIAN
X-WR-CALNAME:SVP Wahlkreis Stadt Luzern
BEGIN:VEVENT
CREATED:20240919T052112Z
UID:28787
DTEND:20250926T000000
DTSTART:20250908T000000
DTSTAMP:20260422T084954Z
LOCATION:Bern
DESCRIPTION:
SUMMARY:Session National- und Ständerat
ORGANIZER:
URL;VALUE=URI:https://www.svpluzern.ch/termine/session-national-und-staenderat-23/
TRANSP:OPAQUE
END:VEVENT
END:VCALENDAR
