BEGIN:VCALENDAR
VERSION:2.0
PRODID:-//SVP Wahlkreis Stadt Luzern //NONSGML Events //EN
CALSCALE:GREGORIAN
X-WR-CALNAME:SVP Wahlkreis Stadt Luzern
BEGIN:VEVENT
CREATED:20240307T090610Z
UID:28659
DTEND:20240320T200000
DTSTART:20240320T193000
DTSTAMP:20260422T140811Z
LOCATION:Restaurant Thorenberg\, Littau-Luzern
DESCRIPTION:SVP bi de Lüt mit Nationalrat Franz Grüter und Nationalrätin Vroni 
SUMMARY:SVP bi de Lüt mit Nationalrat Franz Grüter und Nationalrätin Vroni Thalmann
ORGANIZER:
URL;VALUE=URI:https://www.svpluzern.ch/termine/svp-bi-de-luet-mit-nationalrat-franz-grueter-und-nationalraetin-vroni-thalmann/
TRANSP:OPAQUE
END:VEVENT
END:VCALENDAR
