BEGIN:VCALENDAR
VERSION:2.0
PRODID:-//SVP Wahlkreis Stadt Luzern //NONSGML Events //EN
CALSCALE:GREGORIAN
X-WR-CALNAME:SVP Wahlkreis Stadt Luzern
BEGIN:VEVENT
CREATED:20240111T183757Z
UID:28631
DTEND:20240320T211500
DTSTART:20240320T193000
DTSTAMP:20260422T140632Z
LOCATION:Restaurant Thorenberg\, Thorenbergstrasse 5\, 6014 Littau-Luzern
DESCRIPTION:
SUMMARY:Sessionsrückblick
ORGANIZER:SVP Stadt Luzern
URL;VALUE=URI:https://www.svpluzern.ch/termine/sessionsrueckblick-4/
TRANSP:OPAQUE
END:VEVENT
END:VCALENDAR
