BEGIN:VCALENDAR
VERSION:2.0
PRODID:-//SVP Wahlkreis Stadt Luzern //NONSGML Events //EN
CALSCALE:GREGORIAN
X-WR-CALNAME:SVP Wahlkreis Stadt Luzern
BEGIN:VEVENT
CREATED:20231029T154731Z
UID:28513
DTEND:20240109T210000
DTSTART:20240109T190000
DTSTAMP:20260422T140617Z
LOCATION:Kreuz Buttisholz
DESCRIPTION:
SUMMARY:Sessionsrückblick Nationalrat
ORGANIZER:
URL;VALUE=URI:https://www.svpluzern.ch/termine/sessionsrueckblick-nationalrat/
TRANSP:OPAQUE
END:VEVENT
END:VCALENDAR
