BEGIN:VCALENDAR
VERSION:2.0
PRODID:-//SVP Wahlkreis Stadt Luzern //NONSGML Events //EN
CALSCALE:GREGORIAN
X-WR-CALNAME:SVP Wahlkreis Stadt Luzern
BEGIN:VEVENT
CREATED:20231029T154738Z
UID:28446
DTEND:20240618T220000
DTSTART:20240618T190000
DTSTAMP:20260421T090953Z
LOCATION:
DESCRIPTION:
SUMMARY:Präsidentenfeier Kantonsrat Luzern
ORGANIZER:
URL;VALUE=URI:https://www.svpluzern.ch/termine/praesidentenfeier-kantonsrat-luzern-5/
TRANSP:OPAQUE
END:VEVENT
END:VCALENDAR
