BEGIN:VCALENDAR
VERSION:2.0
PRODID:-//SVP Wahlkreis Stadt Luzern //NONSGML Events //EN
CALSCALE:GREGORIAN
X-WR-CALNAME:SVP Wahlkreis Stadt Luzern
BEGIN:VEVENT
CREATED:20231029T154739Z
UID:28437
DTEND:20240815T000000
DTSTART:20240815T000000
DTSTAMP:20260422T144933Z
LOCATION:
DESCRIPTION:
SUMMARY:Maria Himmelfahrt
ORGANIZER:
URL;VALUE=URI:https://www.svpluzern.ch/termine/maria-himmelfahrt-4/
TRANSP:OPAQUE
END:VEVENT
END:VCALENDAR
