BEGIN:VCALENDAR
VERSION:2.0
PRODID:-//SVP Wahlkreis Stadt Luzern //NONSGML Events //EN
CALSCALE:GREGORIAN
X-WR-CALNAME:SVP Wahlkreis Stadt Luzern
BEGIN:VEVENT
CREATED:20231029T154745Z
UID:28384
DTEND:20241205T220000
DTSTART:20241205T193000
DTSTAMP:20260421T144737Z
LOCATION:Vogelsang
DESCRIPTION:
SUMMARY:Sitzung Parteileitung
ORGANIZER:
URL;VALUE=URI:https://www.svpluzern.ch/termine/sitzung-parteileitung-2/
TRANSP:OPAQUE
END:VEVENT
END:VCALENDAR
