BEGIN:VCALENDAR
VERSION:2.0
PRODID:-//SVP Wahlkreis Stadt Luzern //NONSGML Events //EN
CALSCALE:GREGORIAN
X-WR-CALNAME:SVP Wahlkreis Stadt Luzern
BEGIN:VEVENT
CREATED:20230919T052029Z
UID:28199
DTEND:20231004T220000
DTSTART:20231004T190000
DTSTAMP:20260422T154638Z
LOCATION:Tramhüsli Bistro&Bar\, Gerliswilstrasse in Emmen
DESCRIPTION:
SUMMARY:SVP be de Lüüt in Emmen
ORGANIZER:NR Kandidat René Marti
URL;VALUE=URI:https://www.svpluzern.ch/termine/svp-be-de-lueuet-in-emmen/
TRANSP:OPAQUE
END:VEVENT
END:VCALENDAR
