BEGIN:VCALENDAR
VERSION:2.0
PRODID:-//SVP Wahlkreis Stadt Luzern //NONSGML Events //EN
CALSCALE:GREGORIAN
X-WR-CALNAME:SVP Wahlkreis Stadt Luzern
BEGIN:VEVENT
CREATED:20230516T105826Z
UID:27199
DTEND:20230627T200000
DTSTART:20230627T190000
DTSTAMP:20260422T140735Z
LOCATION:Forum 1 der Messe Luzern\, Horwerstrasse 87\, Luzern
DESCRIPTION:
SUMMARY:Die Werte der Neutralität
ORGANIZER:Stiftung Freiheit
URL;VALUE=URI:https://www.svpluzern.ch/termine/die-werte-der-neutralitaet/
TRANSP:OPAQUE
END:VEVENT
END:VCALENDAR
