BEGIN:VCALENDAR
VERSION:2.0
PRODID:-//SVP Wahlkreis Stadt Luzern //NONSGML Events //EN
CALSCALE:GREGORIAN
X-WR-CALNAME:SVP Wahlkreis Stadt Luzern
BEGIN:VEVENT
CREATED:20221006T042606Z
UID:24647
DTEND:20230326T000000
DTSTART:20230326T000000
DTSTAMP:20260421T091848Z
LOCATION:
DESCRIPTION:
SUMMARY:Beginn Sommerzeit
ORGANIZER:
URL;VALUE=URI:https://www.svpluzern.ch/termine/beginn-sommerzeit-4/
TRANSP:OPAQUE
END:VEVENT
END:VCALENDAR
