BEGIN:VCALENDAR
VERSION:2.0
PRODID:-//SVP Wahlkreis Stadt Luzern //NONSGML Events //EN
CALSCALE:GREGORIAN
X-WR-CALNAME:SVP Wahlkreis Stadt Luzern
BEGIN:VEVENT
CREATED:20221006T042612Z
UID:24636
DTEND:20231030T000000
DTSTART:20231030T000000
DTSTAMP:20260420T132243Z
LOCATION:
DESCRIPTION:
SUMMARY:Session Kantonsrat
ORGANIZER:
URL;VALUE=URI:https://www.svpluzern.ch/termine/session-kantonsrat-36/
TRANSP:OPAQUE
END:VEVENT
END:VCALENDAR
