BEGIN:VCALENDAR
VERSION:2.0
PRODID:-//SVP Wahlkreis Stadt Luzern //NONSGML Events //EN
CALSCALE:GREGORIAN
X-WR-CALNAME:SVP Wahlkreis Stadt Luzern
BEGIN:VEVENT
CREATED:20221006T043139Z
UID:24544
DTEND:20230801T150000
DTSTART:20230801T100000
DTSTAMP:20260422T135329Z
LOCATION:Steinhuserberg\, Wolhusen
DESCRIPTION:
SUMMARY:1. August-Anlass
ORGANIZER:WK Entlebuch
URL;VALUE=URI:https://www.svpluzern.ch/termine/1-augustbrunch/
TRANSP:OPAQUE
END:VEVENT
END:VCALENDAR
