BEGIN:VCALENDAR
VERSION:2.0
PRODID:-//SVP Wahlkreis Stadt Luzern //NONSGML Events //EN
CALSCALE:GREGORIAN
X-WR-CALNAME:SVP Wahlkreis Stadt Luzern
BEGIN:VEVENT
CREATED:20221006T043144Z
UID:24502
DTEND:20231029T000000
DTSTART:20231029T000000
DTSTAMP:20260420T131801Z
LOCATION:
DESCRIPTION:
SUMMARY:Ende Sommerzeit
ORGANIZER:
URL;VALUE=URI:https://www.svpluzern.ch/termine/ende-sommerzeit-4/
TRANSP:OPAQUE
END:VEVENT
END:VCALENDAR
