BEGIN:VCALENDAR
VERSION:2.0
PRODID:-//SVP Wahlkreis Stadt Luzern //NONSGML Events //EN
CALSCALE:GREGORIAN
X-WR-CALNAME:SVP Wahlkreis Stadt Luzern
BEGIN:VEVENT
CREATED:20220918T150427Z
UID:23556
DTEND:20221221T213000
DTSTART:20221221T193000
DTSTAMP:20260422T140826Z
LOCATION:Seehotel du Lac\, 6353 Weggis
DESCRIPTION:
SUMMARY:Sessionsrückblick mit Franz Grüter
ORGANIZER:SVP Weggis
URL;VALUE=URI:https://www.svpluzern.ch/termine/sessionsrueckblick-mit-franz-grueter-4/
TRANSP:OPAQUE
END:VEVENT
END:VCALENDAR
