BEGIN:VCALENDAR
VERSION:2.0
PRODID:-//SVP Wahlkreis Stadt Luzern //NONSGML Events //EN
CALSCALE:GREGORIAN
X-WR-CALNAME:SVP Wahlkreis Stadt Luzern
BEGIN:VEVENT
CREATED:20210613T070025Z
UID:20019
DTEND:20210626T230000
DTSTART:20210626T193000
DTSTAMP:20260422T140810Z
LOCATION:Bergrestaurant Heiligkreuz-First\, 6166 Hasle
DESCRIPTION:→Zur Einladung←
[gravityform id="16" title="false" description="fa
SUMMARY:Höhenfeuer der Freiheit
ORGANIZER:SVP Hasle
URL;VALUE=URI:https://www.svpluzern.ch/termine/hoehenfeuer-der-freiheit/
TRANSP:OPAQUE
END:VEVENT
END:VCALENDAR
