BEGIN:VCALENDAR
VERSION:2.0
PRODID:-//SVP Wahlkreis Stadt Luzern //NONSGML Events //EN
CALSCALE:GREGORIAN
X-WR-CALNAME:SVP Wahlkreis Stadt Luzern
BEGIN:VEVENT
CREATED:20200923T081024Z
UID:18148
DTEND:20201008T213000
DTSTART:20201008T190000
DTSTAMP:20260422T140632Z
LOCATION:Rickensääli\, Rickenstrasse 5\, 6122 Menznau
DESCRIPTION:
SUMMARY:Sessionsrückblick
ORGANIZER:SVP Menznau
URL;VALUE=URI:https://www.svpluzern.ch/termine/sessionsrueckblick/
TRANSP:OPAQUE
END:VEVENT
END:VCALENDAR
