BEGIN:VCALENDAR
VERSION:2.0
PRODID:-//SVP Wahlkreis Stadt Luzern //NONSGML Events //EN
CALSCALE:GREGORIAN
X-WR-CALNAME:SVP Wahlkreis Stadt Luzern
BEGIN:VEVENT
CREATED:20200314T175516Z
UID:16682
DTEND:20200326T000000
DTSTART:20200326T000000
DTSTAMP:20260422T140611Z
LOCATION:Restaurant Zellfeld in Schenkon
DESCRIPTION:
SUMMARY:ABGESAGT Sessionsrückblick mit Franz Grüter
ORGANIZER:
URL;VALUE=URI:https://www.svpluzern.ch/termine/abgesagt-sessionsrueckblick-mit-franz-grueter/
TRANSP:OPAQUE
END:VEVENT
END:VCALENDAR
