BEGIN:VCALENDAR
VERSION:2.0
PRODID:-//SVP Wahlkreis Stadt Luzern //NONSGML Events //EN
CALSCALE:GREGORIAN
X-WR-CALNAME:SVP Wahlkreis Stadt Luzern
BEGIN:VEVENT
CREATED:20191030T052249Z
UID:16129
DTEND:20200616T230000
DTSTART:20200616T190000
DTSTAMP:20260421T110533Z
LOCATION:
DESCRIPTION:
SUMMARY:Fraktionssitzung Grosser Stadtrat
ORGANIZER:
URL;VALUE=URI:https://www.svpluzern.ch/termine/fraktionssitzung-grosser-stadtrat-6/
TRANSP:OPAQUE
END:VEVENT
END:VCALENDAR
